BEGIN:VCALENDAR
VERSION:2.0
PRODID:-//RONDSTOA - ECPv5.2.1.1//NONSGML v1.0//EN
CALSCALE:GREGORIAN
METHOD:PUBLISH
X-WR-CALNAME:RONDSTOA
X-ORIGINAL-URL:https://rondstoa.at
X-WR-CALDESC:Veranstaltungen für RONDSTOA
BEGIN:VTIMEZONE
TZID:Europe/Vienna
BEGIN:DAYLIGHT
TZOFFSETFROM:+0100
TZOFFSETTO:+0200
TZNAME:CEST
DTSTART:20260329T010000
END:DAYLIGHT
BEGIN:STANDARD
TZOFFSETFROM:+0200
TZOFFSETTO:+0100
TZNAME:CET
DTSTART:20261025T010000
END:STANDARD
END:VTIMEZONE
BEGIN:VEVENT
DTSTART;VALUE=DATE:20260724
DTEND;VALUE=DATE:20260725
DTSTAMP:20260423T105049
CREATED:20250129T091424Z
LAST-MODIFIED:20251002T094321Z
UID:2927-1784851200-1784937599@rondstoa.at
SUMMARY:Wildsaufest St.Aegidi
DESCRIPTION:
URL:https://rondstoa.at/event/wildsaufest/
LOCATION:Sankt Ägidi\, Sankt Ägidi\, Oberösterreich\, 4725\, Austria
END:VEVENT
END:VCALENDAR