BEGIN:VCALENDAR
VERSION:2.0
PRODID:-//RONDSTOA - ECPv5.2.1.1//NONSGML v1.0//EN
CALSCALE:GREGORIAN
METHOD:PUBLISH
X-WR-CALNAME:RONDSTOA
X-ORIGINAL-URL:https://rondstoa.at
X-WR-CALDESC:Veranstaltungen für RONDSTOA
BEGIN:VTIMEZONE
TZID:Europe/Vienna
BEGIN:DAYLIGHT
TZOFFSETFROM:+0100
TZOFFSETTO:+0200
TZNAME:CEST
DTSTART:20260329T010000
END:DAYLIGHT
BEGIN:STANDARD
TZOFFSETFROM:+0200
TZOFFSETTO:+0100
TZNAME:CET
DTSTART:20261025T010000
END:STANDARD
END:VTIMEZONE
BEGIN:VEVENT
DTSTART;VALUE=DATE:20260829
DTEND;VALUE=DATE:20260830
DTSTAMP:20260421T100212
CREATED:20251002T094400Z
LAST-MODIFIED:20251002T094400Z
UID:3031-1787961600-1788047999@rondstoa.at
SUMMARY:Marktfest Obertrum
DESCRIPTION:
URL:https://rondstoa.at/event/marktfest-obertrum/
LOCATION:Obertrum am See\, Obertrum am See\, Salzburg\, 5162\, Austria
END:VEVENT
BEGIN:VEVENT
DTSTART;VALUE=DATE:20260724
DTEND;VALUE=DATE:20260725
DTSTAMP:20260421T100212
CREATED:20250129T091424Z
LAST-MODIFIED:20251002T094321Z
UID:2927-1784851200-1784937599@rondstoa.at
SUMMARY:Wildsaufest St.Aegidi
DESCRIPTION:
URL:https://rondstoa.at/event/wildsaufest/
LOCATION:Sankt Ägidi\, Sankt Ägidi\, Oberösterreich\, 4725\, Austria
END:VEVENT
BEGIN:VEVENT
DTSTART;VALUE=DATE:20260711
DTEND;VALUE=DATE:20260712
DTSTAMP:20260421T100212
CREATED:20251002T094136Z
LAST-MODIFIED:20251002T094136Z
UID:3026-1783728000-1783814399@rondstoa.at
SUMMARY:Stadlfest Hohenzell
DESCRIPTION:
URL:https://rondstoa.at/event/stadlfest-hohenzell/
LOCATION:Hohenzell\, Hohenzell\, 4921\, Austria
END:VEVENT
BEGIN:VEVENT
DTSTART;VALUE=DATE:20260626
DTEND;VALUE=DATE:20260627
DTSTAMP:20260421T100212
CREATED:20251002T094005Z
LAST-MODIFIED:20251002T094021Z
UID:3024-1782432000-1782518399@rondstoa.at
SUMMARY:Feuerwehrfest Lamm
DESCRIPTION:
URL:https://rondstoa.at/event/feuerwehrfest-lamm/
LOCATION:Salzburg
END:VEVENT
BEGIN:VEVENT
DTSTART;VALUE=DATE:20260613
DTEND;VALUE=DATE:20260614
DTSTAMP:20260421T100212
CREATED:20251002T093920Z
LAST-MODIFIED:20251002T093920Z
UID:3021-1781308800-1781395199@rondstoa.at
SUMMARY:225 Jahre Prangerschützengesellschaft Plainfeld
DESCRIPTION:
URL:https://rondstoa.at/event/225-jahre-prangerschuetzengesellschaft-plainfeld/
LOCATION:Plainfeld\, Plainfeld\, 5325\, Austria
END:VEVENT
BEGIN:VEVENT
DTSTART;VALUE=DATE:20260606
DTEND;VALUE=DATE:20260607
DTSTAMP:20260421T100212
CREATED:20251002T093626Z
LAST-MODIFIED:20251002T093626Z
UID:3018-1780704000-1780790399@rondstoa.at
SUMMARY:Landjugendfest Berndorf
DESCRIPTION:
URL:https://rondstoa.at/event/landjugendfest-berndorf/
LOCATION:Berndorf\, Berndorf bei Salzburg\, 5165\, Austria
END:VEVENT
BEGIN:VEVENT
DTSTART;VALUE=DATE:20260524
DTEND;VALUE=DATE:20260525
DTSTAMP:20260421T100212
CREATED:20251002T093440Z
LAST-MODIFIED:20251002T093440Z
UID:3016-1779580800-1779667199@rondstoa.at
SUMMARY:Trumer Bierfest
DESCRIPTION:
URL:https://rondstoa.at/event/trumer-bierfest-2/
LOCATION:Obertrum am See\, Obertrum am See\, Salzburg\, 5162\, Austria
END:VEVENT
BEGIN:VEVENT
DTSTART;VALUE=DATE:20260509
DTEND;VALUE=DATE:20260510
DTSTAMP:20260421T100212
CREATED:20251002T093358Z
LAST-MODIFIED:20251002T093358Z
UID:3014-1778284800-1778371199@rondstoa.at
SUMMARY:Stoana Mee Gaudi
DESCRIPTION:
URL:https://rondstoa.at/event/stoana-mee-gaudi/
LOCATION:Saalfelden am Steinernen Meer\, Saalfelden am Steinernen Meer\, Salzburg\, 5760\, Austria
END:VEVENT
END:VCALENDAR